BEGIN:VCALENDAR
VERSION:2.0
PRODID:-//Zephyr Cove Tennis Club - ECPv6.15.20//NONSGML v1.0//EN
CALSCALE:GREGORIAN
METHOD:PUBLISH
X-WR-CALNAME:Zephyr Cove Tennis Club
X-ORIGINAL-URL:https://www.zctennis.com
X-WR-CALDESC:Events for Zephyr Cove Tennis Club
REFRESH-INTERVAL;VALUE=DURATION:PT1H
X-Robots-Tag:noindex
X-PUBLISHED-TTL:PT1H
BEGIN:VTIMEZONE
TZID:America/Los_Angeles
BEGIN:DAYLIGHT
TZOFFSETFROM:-0800
TZOFFSETTO:-0700
TZNAME:PDT
DTSTART:20250309T100000
END:DAYLIGHT
BEGIN:STANDARD
TZOFFSETFROM:-0700
TZOFFSETTO:-0800
TZNAME:PST
DTSTART:20251102T090000
END:STANDARD
BEGIN:DAYLIGHT
TZOFFSETFROM:-0800
TZOFFSETTO:-0700
TZNAME:PDT
DTSTART:20260308T100000
END:DAYLIGHT
BEGIN:STANDARD
TZOFFSETFROM:-0700
TZOFFSETTO:-0800
TZNAME:PST
DTSTART:20261101T090000
END:STANDARD
BEGIN:DAYLIGHT
TZOFFSETFROM:-0800
TZOFFSETTO:-0700
TZNAME:PDT
DTSTART:20270314T100000
END:DAYLIGHT
BEGIN:STANDARD
TZOFFSETFROM:-0700
TZOFFSETTO:-0800
TZNAME:PST
DTSTART:20271107T090000
END:STANDARD
END:VTIMEZONE
BEGIN:VEVENT
DTSTART;TZID=America/Los_Angeles:20260907T110000
DTEND;TZID=America/Los_Angeles:20260907T150000
DTSTAMP:20260424T072926
CREATED:20180515T180438Z
LAST-MODIFIED:20250927T182749Z
UID:4689-1788778800-1788793200@www.zctennis.com
SUMMARY:Sundae Monday
DESCRIPTION:ZCTC’s final tennis mixer/social event for the year is free to members ($10 for non-members).  Show your club spirit by wearing your favorite ZCTC shirt\, fleece\, or jacket (or purchase one during the event)! No registration required. See you there!
URL:https://www.zctennis.com/event/sundae-monday/
LOCATION:Zephyr Cove Tennis Club\, 233 Warrior Way\, Zephyr Cove\, NV\, 89448\, United States
CATEGORIES:Mixers
ORGANIZER;CN="Zephyr Cove Tennis Club Foundation":MAILTO:zctennisclub@gmail.com
END:VEVENT
END:VCALENDAR