BEGIN:VCALENDAR
VERSION:2.0
PRODID:-//Zephyr Cove Tennis Club - ECPv6.15.20//NONSGML v1.0//EN
CALSCALE:GREGORIAN
METHOD:PUBLISH
X-WR-CALNAME:Zephyr Cove Tennis Club
X-ORIGINAL-URL:https://www.zctennis.com
X-WR-CALDESC:Events for Zephyr Cove Tennis Club
REFRESH-INTERVAL;VALUE=DURATION:PT1H
X-Robots-Tag:noindex
X-PUBLISHED-TTL:PT1H
BEGIN:VTIMEZONE
TZID:America/Los_Angeles
BEGIN:DAYLIGHT
TZOFFSETFROM:-0800
TZOFFSETTO:-0700
TZNAME:PDT
DTSTART:20250309T100000
END:DAYLIGHT
BEGIN:STANDARD
TZOFFSETFROM:-0700
TZOFFSETTO:-0800
TZNAME:PST
DTSTART:20251102T090000
END:STANDARD
BEGIN:DAYLIGHT
TZOFFSETFROM:-0800
TZOFFSETTO:-0700
TZNAME:PDT
DTSTART:20260308T100000
END:DAYLIGHT
BEGIN:STANDARD
TZOFFSETFROM:-0700
TZOFFSETTO:-0800
TZNAME:PST
DTSTART:20261101T090000
END:STANDARD
BEGIN:DAYLIGHT
TZOFFSETFROM:-0800
TZOFFSETTO:-0700
TZNAME:PDT
DTSTART:20270314T100000
END:DAYLIGHT
BEGIN:STANDARD
TZOFFSETFROM:-0700
TZOFFSETTO:-0800
TZNAME:PST
DTSTART:20271107T090000
END:STANDARD
END:VTIMEZONE
BEGIN:VEVENT
DTSTART;VALUE=DATE:20260730
DTEND;VALUE=DATE:20260803
DTSTAMP:20260423T171023
CREATED:20180515T175848Z
LAST-MODIFIED:20250813T002128Z
UID:4684-1785369600-1785715199@www.zctennis.com
SUMMARY:Tahoe Tennis Classic
DESCRIPTION:Join us for the Hersh Herschman Memorial Tahoe Classic tennis tournament at Zephyr Cove Tennis Club. While this is an all-doubles tournament\, the various events make it so all levels can compete. \nMore than 200 players from ten states are expected to descend about the region. \n“The popularity of the Classic continues to grow each year\, a testament to the caliber of play and fun atmosphere\,” Bob Beutenmiller\, tournament director\, said. \nOne thing that makes this tournament different from so many others is that every player is guaranteed two matches. The entry fee also includes a pizza party on Friday night\, a T-shirt\, and cap or visor. \nThe tournament is the main fundraiser for the Zephyr Cove Tennis Club Foundation. In addition\, there is a fundraiser during the Classic with a silent auction to help raise funds that are used for court upkeep and programs. The foundation is responsible for everything tennis related at the Douglas County-owned park. \nMore information is available at: http://www.zctennis.com/tahoe-classic-tournament.
URL:https://www.zctennis.com/event/tahoe-tennis-classic-2/
LOCATION:Zephyr Cove Tennis Club\, 233 Warrior Way\, Zephyr Cove\, NV\, 89448\, United States
CATEGORIES:Tournaments
ORGANIZER;CN="Zephyr Cove Tennis Club Foundation":MAILTO:zctennisclub@gmail.com
END:VEVENT
END:VCALENDAR