BEGIN:VCALENDAR
VERSION:2.0
PRODID:-//Zephyr Cove Tennis Club - ECPv6.15.20//NONSGML v1.0//EN
CALSCALE:GREGORIAN
METHOD:PUBLISH
X-WR-CALNAME:Zephyr Cove Tennis Club
X-ORIGINAL-URL:https://www.zctennis.com
X-WR-CALDESC:Events for Zephyr Cove Tennis Club
REFRESH-INTERVAL;VALUE=DURATION:PT1H
X-Robots-Tag:noindex
X-PUBLISHED-TTL:PT1H
BEGIN:VTIMEZONE
TZID:America/Los_Angeles
BEGIN:DAYLIGHT
TZOFFSETFROM:-0800
TZOFFSETTO:-0700
TZNAME:PDT
DTSTART:20250309T100000
END:DAYLIGHT
BEGIN:STANDARD
TZOFFSETFROM:-0700
TZOFFSETTO:-0800
TZNAME:PST
DTSTART:20251102T090000
END:STANDARD
BEGIN:DAYLIGHT
TZOFFSETFROM:-0800
TZOFFSETTO:-0700
TZNAME:PDT
DTSTART:20260308T100000
END:DAYLIGHT
BEGIN:STANDARD
TZOFFSETFROM:-0700
TZOFFSETTO:-0800
TZNAME:PST
DTSTART:20261101T090000
END:STANDARD
BEGIN:DAYLIGHT
TZOFFSETFROM:-0800
TZOFFSETTO:-0700
TZNAME:PDT
DTSTART:20270314T100000
END:DAYLIGHT
BEGIN:STANDARD
TZOFFSETFROM:-0700
TZOFFSETTO:-0800
TZNAME:PST
DTSTART:20271107T090000
END:STANDARD
END:VTIMEZONE
BEGIN:VEVENT
DTSTART;VALUE=DATE:20260718
DTEND;VALUE=DATE:20260720
DTSTAMP:20260423T172536
CREATED:20230102T203609Z
LAST-MODIFIED:20250813T002227Z
UID:6697-1784332800-1784505599@www.zctennis.com
SUMMARY:ZCTC Singles Club Championship
DESCRIPTION:Join us for the ZCTC singles club championship tournament. The event is free for members with prizes for 1st and 2nd places.
URL:https://www.zctennis.com/event/zctc-singles-club-championship/
LOCATION:Zephyr Cove Tennis Club\, 233 Warrior Way\, Zephyr Cove\, NV\, 89448\, United States
CATEGORIES:Tournaments
ORGANIZER;CN="Zephyr Cove Tennis Club Foundation":MAILTO:zctennisclub@gmail.com
END:VEVENT
END:VCALENDAR