BEGIN:VCALENDAR
VERSION:2.0
PRODID:-//Zephyr Cove Tennis Club - ECPv6.15.20//NONSGML v1.0//EN
CALSCALE:GREGORIAN
METHOD:PUBLISH
X-WR-CALNAME:Zephyr Cove Tennis Club
X-ORIGINAL-URL:https://www.zctennis.com
X-WR-CALDESC:Events for Zephyr Cove Tennis Club
REFRESH-INTERVAL;VALUE=DURATION:PT1H
X-Robots-Tag:noindex
X-PUBLISHED-TTL:PT1H
BEGIN:VTIMEZONE
TZID:America/Los_Angeles
BEGIN:DAYLIGHT
TZOFFSETFROM:-0800
TZOFFSETTO:-0700
TZNAME:PDT
DTSTART:20250309T100000
END:DAYLIGHT
BEGIN:STANDARD
TZOFFSETFROM:-0700
TZOFFSETTO:-0800
TZNAME:PST
DTSTART:20251102T090000
END:STANDARD
BEGIN:DAYLIGHT
TZOFFSETFROM:-0800
TZOFFSETTO:-0700
TZNAME:PDT
DTSTART:20260308T100000
END:DAYLIGHT
BEGIN:STANDARD
TZOFFSETFROM:-0700
TZOFFSETTO:-0800
TZNAME:PST
DTSTART:20261101T090000
END:STANDARD
BEGIN:DAYLIGHT
TZOFFSETFROM:-0800
TZOFFSETTO:-0700
TZNAME:PDT
DTSTART:20270314T100000
END:DAYLIGHT
BEGIN:STANDARD
TZOFFSETFROM:-0700
TZOFFSETTO:-0800
TZNAME:PST
DTSTART:20271107T090000
END:STANDARD
END:VTIMEZONE
BEGIN:VEVENT
DTSTART;VALUE=DATE:20260620
DTEND;VALUE=DATE:20260621
DTSTAMP:20260423T133717
CREATED:20190106T230431Z
LAST-MODIFIED:20250813T002508Z
UID:5041-1781913600-1781999999@www.zctennis.com
SUMMARY:SJTA Junior Tennis Tournament
DESCRIPTION:REGISTER TODAY for the SJTA Junior Tennis Tournament Tour.  Participants will play one-day only. Snacks will be provided. Get more information at https://sierrajuniortennis.org/tournaments/. \n​If you have any questions about the ZCTC tournament\, please contact the tournament director at zctennisclub@gmail.com.​
URL:https://www.zctennis.com/event/sjta-junior-tennis-tournament/
LOCATION:Zephyr Cove Tennis Club\, 233 Warrior Way\, Zephyr Cove\, NV\, 89448\, United States
CATEGORIES:Junior Tennis,Tournaments
ORGANIZER;CN="Zephyr Cove Tennis Club Foundation":MAILTO:zctennisclub@gmail.com
END:VEVENT
END:VCALENDAR