BEGIN:VCALENDAR
VERSION:2.0
PRODID:-//Zephyr Cove Tennis Club - ECPv6.15.20//NONSGML v1.0//EN
CALSCALE:GREGORIAN
METHOD:PUBLISH
X-ORIGINAL-URL:https://www.zctennis.com
X-WR-CALDESC:Events for Zephyr Cove Tennis Club
REFRESH-INTERVAL;VALUE=DURATION:PT1H
X-Robots-Tag:noindex
X-PUBLISHED-TTL:PT1H
BEGIN:VTIMEZONE
TZID:America/Los_Angeles
BEGIN:DAYLIGHT
TZOFFSETFROM:-0800
TZOFFSETTO:-0700
TZNAME:PDT
DTSTART:20250309T100000
END:DAYLIGHT
BEGIN:STANDARD
TZOFFSETFROM:-0700
TZOFFSETTO:-0800
TZNAME:PST
DTSTART:20251102T090000
END:STANDARD
BEGIN:DAYLIGHT
TZOFFSETFROM:-0800
TZOFFSETTO:-0700
TZNAME:PDT
DTSTART:20260308T100000
END:DAYLIGHT
BEGIN:STANDARD
TZOFFSETFROM:-0700
TZOFFSETTO:-0800
TZNAME:PST
DTSTART:20261101T090000
END:STANDARD
BEGIN:DAYLIGHT
TZOFFSETFROM:-0800
TZOFFSETTO:-0700
TZNAME:PDT
DTSTART:20270314T100000
END:DAYLIGHT
BEGIN:STANDARD
TZOFFSETFROM:-0700
TZOFFSETTO:-0800
TZNAME:PST
DTSTART:20271107T090000
END:STANDARD
END:VTIMEZONE
BEGIN:VEVENT
DTSTART;TZID=America/Los_Angeles:20260606T110000
DTEND;TZID=America/Los_Angeles:20260606T130000
DTSTAMP:20260423T135139
CREATED:20180515T175343Z
LAST-MODIFIED:20250813T002623Z
UID:4678-1780743600-1780750800@www.zctennis.com
SUMMARY:Juniors' Free Tennis Clinic
DESCRIPTION:Join us for our annual free tennis clinic for juniors. Youngsters age 4-12 will have the opportunity to learn the fundamentals of tennis for free from a professional at Zephyr Cove Tennis Club. Dave Nostrant\, USPTA certified instructor\, will lead the juniors with the assistance of players from the club. The clinic is open to students throughout the Lake Tahoe Basin as well as the Carson Valley. \nA limited number of rackets will be available for those who need one. Come dressed to play – which means athletic wear and non-marking shoes. Be sure to bring water and wear sunscreen. Arrive 15 minutes before the start time. \n>>>Registration is required!<<<
URL:https://www.zctennis.com/event/kids-free-tennis-clinic/
LOCATION:Zephyr Cove Tennis Club\, 233 Warrior Way\, Zephyr Cove\, NV\, 89448\, United States
CATEGORIES:Junior Tennis
ORGANIZER;CN="Zephyr Cove Tennis Club Foundation":MAILTO:zctennisclub@gmail.com
END:VEVENT
END:VCALENDAR